BEGIN:VCALENDAR
VERSION:2.0
CALSCALE:GREGORIAN
PRODID:-//Diputació de Barcelona//DibaCMS//EN
BEGIN:VEVENT
UID:22040
DTSTAMP:20260425T140625
DTSTART:20081102T120000
DTEND:20081102T000000
SUMMARY:Piera FS “A”-Bon Salvador
LOCATION:
METHOD:PUBLISH
X-WR-CALNAME:e-seu@ajpiera.cat
X-WR-TIMEZONE:Europe/Madrid
DESCRIPTION:Piera FS “A”-Bon Salvador
URI:https://www.viladepiera.cat/actualitat/agenda/piera-fs-a-bon-salvador.html
CLASS:PUBLIC
END:VEVENT
END:VCALENDAR
