BEGIN:VCALENDAR
VERSION:2.0
CALSCALE:GREGORIAN
PRODID:-//Diputació de Barcelona//DibaCMS//EN
BEGIN:VEVENT
UID:22042
DTSTAMP:20260425T171547
DTSTART:20081102T170000
DTEND:20081102T000000
SUMMARY:Piera-S. Pere Molanta
LOCATION:
METHOD:PUBLISH
X-WR-CALNAME:e-seu@ajpiera.cat
X-WR-TIMEZONE:Europe/Madrid
DESCRIPTION:Piera-S. Pere Molanta
URI:https://www.viladepiera.cat/actualitat/agenda/piera-s-pere-molanta.html
CLASS:PUBLIC
END:VEVENT
END:VCALENDAR
