BEGIN:VCALENDAR
VERSION:2.0
CALSCALE:GREGORIAN
PRODID:-//Diputació de Barcelona//DibaCMS//EN
BEGIN:VEVENT
UID:22043
DTSTAMP:20260425T170825
DTSTART:20081102T170000
DTEND:20081102T000000
SUMMARY:AE Piera-Igualada
LOCATION:
METHOD:PUBLISH
X-WR-CALNAME:e-seu@ajpiera.cat
X-WR-TIMEZONE:Europe/Madrid
DESCRIPTION:AE Piera-Igualada
URI:https://www.viladepiera.cat/actualitat/agenda/ae-piera-igualada.html
CLASS:PUBLIC
END:VEVENT
END:VCALENDAR
