BEGIN:VCALENDAR
VERSION:2.0
CALSCALE:GREGORIAN
PRODID:-//Diputació de Barcelona//DibaCMS//EN
BEGIN:VEVENT
UID:22050
DTSTAMP:20260425T160254
DTSTART:20081108T180000
DTEND:20081108T000000
SUMMARY:HC Piera-HC Sant Just
LOCATION:
METHOD:PUBLISH
X-WR-CALNAME:e-seu@ajpiera.cat
X-WR-TIMEZONE:Europe/Madrid
DESCRIPTION:HC Piera-HC Sant Just
URI:https://www.viladepiera.cat/actualitat/agenda/hc-piera-hc-sant-just.html
CLASS:PUBLIC
END:VEVENT
END:VCALENDAR
