BEGIN:VCALENDAR
VERSION:2.0
CALSCALE:GREGORIAN
PRODID:-//Diputació de Barcelona//DibaCMS//EN
BEGIN:VEVENT
UID:22051
DTSTAMP:20260425T170615
DTSTART:20081108T193000
DTEND:20081108T000000
SUMMARY:CP Vilanova-HC Piera
LOCATION:
METHOD:PUBLISH
X-WR-CALNAME:e-seu@ajpiera.cat
X-WR-TIMEZONE:Europe/Madrid
DESCRIPTION:CP Vilanova-HC Piera
URI:https://www.viladepiera.cat/actualitat/agenda/cp-vilanova-hc-piera.html
CLASS:PUBLIC
END:VEVENT
END:VCALENDAR
