BEGIN:VCALENDAR
VERSION:2.0
CALSCALE:GREGORIAN
PRODID:-//Diputació de Barcelona//DibaCMS//EN
BEGIN:VEVENT
UID:22060
DTSTAMP:20260425T182505
DTSTART:20081112T190000
DTEND:20081112T000000
SUMMARY:Escola de pares i mares
LOCATION:
METHOD:PUBLISH
X-WR-CALNAME:e-seu@ajpiera.cat
X-WR-TIMEZONE:Europe/Madrid
DESCRIPTION:Escola de pares i mares
URI:https://www.viladepiera.cat/actualitat/agenda/22060-escola-de-pares-i-mares.html
CLASS:PUBLIC
END:VEVENT
END:VCALENDAR
