BEGIN:VCALENDAR
VERSION:2.0
CALSCALE:GREGORIAN
PRODID:-//Diputació de Barcelona//DibaCMS//EN
BEGIN:VEVENT
UID:22062
DTSTAMP:20260425T155407
DTSTART:20081112T180000
DTEND:20081112T000000
SUMMARY:Avenços contra el càncer
LOCATION:
METHOD:PUBLISH
X-WR-CALNAME:e-seu@ajpiera.cat
X-WR-TIMEZONE:Europe/Madrid
DESCRIPTION:Avenços contra el càncer
URI:https://www.viladepiera.cat/actualitat/agenda/avencos-contra-el-cancer.html
CLASS:PUBLIC
END:VEVENT
END:VCALENDAR
