BEGIN:VCALENDAR
VERSION:2.0
CALSCALE:GREGORIAN
PRODID:-//Diputació de Barcelona//DibaCMS//EN
BEGIN:VEVENT
UID:22063
DTSTAMP:20260425T155342
DTSTART:20081113T190000
DTEND:20081113T000000
SUMMARY:Andy Warhol
LOCATION:
METHOD:PUBLISH
X-WR-CALNAME:e-seu@ajpiera.cat
X-WR-TIMEZONE:Europe/Madrid
DESCRIPTION:Andy Warhol
URI:https://www.viladepiera.cat/actualitat/agenda/andy-warhol.html
CLASS:PUBLIC
END:VEVENT
END:VCALENDAR
