BEGIN:VCALENDAR
VERSION:2.0
CALSCALE:GREGORIAN
PRODID:-//Diputació de Barcelona//DibaCMS//EN
BEGIN:VEVENT
UID:22065
DTSTAMP:20260425T183745
DTSTART:20081114T210000
DTEND:20081114T000000
SUMMARY:H.C.Piera-Capellades H.C.
LOCATION:
METHOD:PUBLISH
X-WR-CALNAME:e-seu@ajpiera.cat
X-WR-TIMEZONE:Europe/Madrid
DESCRIPTION:H.C.Piera-Capellades H.C.
URI:https://www.viladepiera.cat/actualitat/agenda/hcpiera-capellades-hc.html
CLASS:PUBLIC
END:VEVENT
END:VCALENDAR
