BEGIN:VCALENDAR
VERSION:2.0
CALSCALE:GREGORIAN
PRODID:-//Diputació de Barcelona//DibaCMS//EN
BEGIN:VEVENT
UID:22067
DTSTAMP:20260425T183500
DTSTART:20081115T000000
DTEND:20081115T000000
SUMMARY:POUM
LOCATION:
METHOD:PUBLISH
X-WR-CALNAME:e-seu@ajpiera.cat
X-WR-TIMEZONE:Europe/Madrid
DESCRIPTION:POUM
URI:https://www.viladepiera.cat/actualitat/agenda/22067-poum.html
CLASS:PUBLIC
END:VEVENT
END:VCALENDAR
