BEGIN:VCALENDAR
VERSION:2.0
CALSCALE:GREGORIAN
PRODID:-//Diputació de Barcelona//DibaCMS//EN
BEGIN:VEVENT
UID:22069
DTSTAMP:20260425T133706
DTSTART:20081115T113000
DTEND:20081115T000000
SUMMARY:AE Piera-Sant Maure
LOCATION:
METHOD:PUBLISH
X-WR-CALNAME:e-seu@ajpiera.cat
X-WR-TIMEZONE:Europe/Madrid
DESCRIPTION:AE Piera-Sant Maure
URI:https://www.viladepiera.cat/actualitat/agenda/ae-piera-sant-maure.html
CLASS:PUBLIC
END:VEVENT
END:VCALENDAR
