BEGIN:VCALENDAR
VERSION:2.0
CALSCALE:GREGORIAN
PRODID:-//Diputació de Barcelona//DibaCMS//EN
BEGIN:VEVENT
UID:22073
DTSTAMP:20260425T134321
DTSTART:20081115T160000
DTEND:20081115T000000
SUMMARY:H.C.Piera-St. Pere de Ribes
LOCATION:
METHOD:PUBLISH
X-WR-CALNAME:e-seu@ajpiera.cat
X-WR-TIMEZONE:Europe/Madrid
DESCRIPTION:H.C.Piera-St. Pere de Ribes
URI:https://www.viladepiera.cat/actualitat/agenda/hcpiera-st-pere-de-ribes.html
CLASS:PUBLIC
END:VEVENT
END:VCALENDAR
