BEGIN:VCALENDAR
VERSION:2.0
CALSCALE:GREGORIAN
PRODID:-//Diputació de Barcelona//DibaCMS//EN
BEGIN:VEVENT
UID:22074
DTSTAMP:20260425T122713
DTSTART:20081115T170000
DTEND:20081115T000000
SUMMARY:HC Piera-CH Ripollet
LOCATION:
METHOD:PUBLISH
X-WR-CALNAME:e-seu@ajpiera.cat
X-WR-TIMEZONE:Europe/Madrid
DESCRIPTION:HC Piera-CH Ripollet
URI:https://www.viladepiera.cat/actualitat/agenda/hc-piera-ch-ripollet.html
CLASS:PUBLIC
END:VEVENT
END:VCALENDAR
