BEGIN:VCALENDAR
VERSION:2.0
CALSCALE:GREGORIAN
PRODID:-//Diputació de Barcelona//DibaCMS//EN
BEGIN:VEVENT
UID:22075
DTSTAMP:20260425T145338
DTSTART:20081115T180000
DTEND:20081115T000000
SUMMARY:HC Piera-CP Riudebitlles
LOCATION:
METHOD:PUBLISH
X-WR-CALNAME:e-seu@ajpiera.cat
X-WR-TIMEZONE:Europe/Madrid
DESCRIPTION:HC Piera-CP Riudebitlles
URI:https://www.viladepiera.cat/actualitat/agenda/hc-piera-cp-riudebitlles.html
CLASS:PUBLIC
END:VEVENT
END:VCALENDAR
