BEGIN:VCALENDAR
VERSION:2.0
CALSCALE:GREGORIAN
PRODID:-//Diputació de Barcelona//DibaCMS//EN
BEGIN:VEVENT
UID:22076
DTSTAMP:20260425T184325
DTSTART:20081115T120000
DTEND:20081115T000000
SUMMARY:Piera FS B-Piera FS A
LOCATION:
METHOD:PUBLISH
X-WR-CALNAME:e-seu@ajpiera.cat
X-WR-TIMEZONE:Europe/Madrid
DESCRIPTION:Piera FS B-Piera FS A
URI:https://www.viladepiera.cat/actualitat/agenda/piera-fs-b-piera-fs-a.html
CLASS:PUBLIC
END:VEVENT
END:VCALENDAR
