BEGIN:VCALENDAR
VERSION:2.0
CALSCALE:GREGORIAN
PRODID:-//Diputació de Barcelona//DibaCMS//EN
BEGIN:VEVENT
UID:22079
DTSTAMP:20260425T171319
DTSTART:20081116T120000
DTEND:20081116T000000
SUMMARY:AE Piera-Carme
LOCATION:
METHOD:PUBLISH
X-WR-CALNAME:e-seu@ajpiera.cat
X-WR-TIMEZONE:Europe/Madrid
DESCRIPTION:AE Piera-Carme
URI:https://www.viladepiera.cat/actualitat/agenda/ae-piera-carme.html
CLASS:PUBLIC
END:VEVENT
END:VCALENDAR
