BEGIN:VCALENDAR
VERSION:2.0
CALSCALE:GREGORIAN
PRODID:-//Diputació de Barcelona//DibaCMS//EN
BEGIN:VEVENT
UID:22085
DTSTAMP:20260425T143130
DTSTART:20081116T190000
DTEND:20081116T000000
SUMMARY:EC Piera-CB Vilanova del Cami
LOCATION:
METHOD:PUBLISH
X-WR-CALNAME:e-seu@ajpiera.cat
X-WR-TIMEZONE:Europe/Madrid
DESCRIPTION:EC Piera-CB Vilanova del Cami
URI:https://www.viladepiera.cat/actualitat/agenda/ec-piera-cb-vilanova-del-cami.html
CLASS:PUBLIC
END:VEVENT
END:VCALENDAR
