BEGIN:VCALENDAR
VERSION:2.0
CALSCALE:GREGORIAN
PRODID:-//Diputació de Barcelona//DibaCMS//EN
BEGIN:VEVENT
UID:22096
DTSTAMP:20260425T132115
DTSTART:20081122T000000
DTEND:20081122T000000
SUMMARY:CFS Piera B- Potència Americana
LOCATION:
METHOD:PUBLISH
X-WR-CALNAME:e-seu@ajpiera.cat
X-WR-TIMEZONE:Europe/Madrid
DESCRIPTION:CFS Piera B- Potència Americana
URI:https://www.viladepiera.cat/actualitat/agenda/cfs-piera-b-potencia-americana.html
CLASS:PUBLIC
END:VEVENT
END:VCALENDAR
