BEGIN:VCALENDAR
VERSION:2.0
CALSCALE:GREGORIAN
PRODID:-//Diputació de Barcelona//DibaCMS//EN
BEGIN:VEVENT
UID:22099
DTSTAMP:20260425T060359
DTSTART:20081123T093000
DTEND:20081123T000000
SUMMARY:Basquet E.C. Piera-C.B.Castellbisbal “B” 
LOCATION:
METHOD:PUBLISH
X-WR-CALNAME:e-seu@ajpiera.cat
X-WR-TIMEZONE:Europe/Madrid
DESCRIPTION:Basquet E.C. Piera-C.B.Castellbisbal “B” 
URI:https://www.viladepiera.cat/actualitat/agenda/basquet-ec-piera-cbcastellbisbal-b-.html
CLASS:PUBLIC
END:VEVENT
END:VCALENDAR
