BEGIN:VCALENDAR
VERSION:2.0
CALSCALE:GREGORIAN
PRODID:-//Diputació de Barcelona//DibaCMS//EN
BEGIN:VEVENT
UID:22101
DTSTAMP:20260425T053845
DTSTART:20081127T180000
DTEND:20081127T000000
SUMMARY:Els contes de l'Estrella
LOCATION:
METHOD:PUBLISH
X-WR-CALNAME:e-seu@ajpiera.cat
X-WR-TIMEZONE:Europe/Madrid
DESCRIPTION:Els contes de l'Estrella
URI:https://www.viladepiera.cat/actualitat/agenda/els-contes-de-lestrella.html
CLASS:PUBLIC
END:VEVENT
END:VCALENDAR
