BEGIN:VCALENDAR
VERSION:2.0
CALSCALE:GREGORIAN
PRODID:-//Diputació de Barcelona//DibaCMS//EN
BEGIN:VEVENT
UID:22105
DTSTAMP:20260425T155433
DTSTART:20081129T100000
DTEND:20081129T000000
SUMMARY:AE Piera-Igualada
LOCATION:
METHOD:PUBLISH
X-WR-CALNAME:e-seu@ajpiera.cat
X-WR-TIMEZONE:Europe/Madrid
DESCRIPTION:AE Piera-Igualada
URI:https://www.viladepiera.cat/actualitat/agenda/22105-ae-piera-igualada.html
CLASS:PUBLIC
END:VEVENT
END:VCALENDAR
