BEGIN:VCALENDAR
VERSION:2.0
CALSCALE:GREGORIAN
PRODID:-//Diputació de Barcelona//DibaCMS//EN
BEGIN:VEVENT
UID:22106
DTSTAMP:20260425T053908
DTSTART:20081129T113000
DTEND:20081129T000000
SUMMARY:AE Piera-Mariano Poblet
LOCATION:
METHOD:PUBLISH
X-WR-CALNAME:e-seu@ajpiera.cat
X-WR-TIMEZONE:Europe/Madrid
DESCRIPTION:AE Piera-Mariano Poblet
URI:https://www.viladepiera.cat/actualitat/agenda/ae-piera-mariano-poblet.html
CLASS:PUBLIC
END:VEVENT
END:VCALENDAR
