BEGIN:VCALENDAR
VERSION:2.0
CALSCALE:GREGORIAN
PRODID:-//Diputació de Barcelona//DibaCMS//EN
BEGIN:VEVENT
UID:22110
DTSTAMP:20260425T054537
DTSTART:20081129T110000
DTEND:20081129T000000
SUMMARY:CFS Piera (CEA)-IES Menéndez Pelayo
LOCATION:
METHOD:PUBLISH
X-WR-CALNAME:e-seu@ajpiera.cat
X-WR-TIMEZONE:Europe/Madrid
DESCRIPTION:CFS Piera (CEA)-IES Menéndez Pelayo
URI:https://www.viladepiera.cat/actualitat/agenda/cfs-piera-cea-ies-menendez-pelayo.html
CLASS:PUBLIC
END:VEVENT
END:VCALENDAR
