BEGIN:VCALENDAR
VERSION:2.0
CALSCALE:GREGORIAN
PRODID:-//Diputació de Barcelona//DibaCMS//EN
BEGIN:VEVENT
UID:22119
DTSTAMP:20260425T155203
DTSTART:20081130T120000
DTEND:20081130T000000
SUMMARY:Piera FS A-Avinyó FS B
LOCATION:
METHOD:PUBLISH
X-WR-CALNAME:e-seu@ajpiera.cat
X-WR-TIMEZONE:Europe/Madrid
DESCRIPTION:Piera FS A-Avinyó FS B
URI:https://www.viladepiera.cat/actualitat/agenda/piera-fs-a-avinyo-fs-b.html
CLASS:PUBLIC
END:VEVENT
END:VCALENDAR
