BEGIN:VCALENDAR
VERSION:2.0
CALSCALE:GREGORIAN
PRODID:-//Diputació de Barcelona//DibaCMS//EN
BEGIN:VEVENT
UID:22121
DTSTAMP:20260425T060243
DTSTART:20081204T190000
DTEND:20081204T000000
SUMMARY:Canis familiaris et Felis catus
LOCATION:
METHOD:PUBLISH
X-WR-CALNAME:e-seu@ajpiera.cat
X-WR-TIMEZONE:Europe/Madrid
DESCRIPTION:Canis familiaris et Felis catus
URI:https://www.viladepiera.cat/actualitat/agenda/canis-familiaris-et-felis-catus.html
CLASS:PUBLIC
END:VEVENT
END:VCALENDAR
