BEGIN:VCALENDAR
VERSION:2.0
CALSCALE:GREGORIAN
PRODID:-//Diputació de Barcelona//DibaCMS//EN
BEGIN:VEVENT
UID:22130
DTSTAMP:20260425T055626
DTSTART:20081213T113000
DTEND:20081213T000000
SUMMARY:AE Piera-Jabac Terrassa
LOCATION:
METHOD:PUBLISH
X-WR-CALNAME:e-seu@ajpiera.cat
X-WR-TIMEZONE:Europe/Madrid
DESCRIPTION:AE Piera-Jabac Terrassa
URI:https://www.viladepiera.cat/actualitat/agenda/ae-piera-jabac-terrassa.html
CLASS:PUBLIC
END:VEVENT
END:VCALENDAR
