BEGIN:VCALENDAR
VERSION:2.0
CALSCALE:GREGORIAN
PRODID:-//Diputació de Barcelona//DibaCMS//EN
BEGIN:VEVENT
UID:22132
DTSTAMP:20260425T033641
DTSTART:20081213T180000
DTEND:20081213T000000
SUMMARY:AE Piera-Sta. Coloma de Queralt
LOCATION:
METHOD:PUBLISH
X-WR-CALNAME:e-seu@ajpiera.cat
X-WR-TIMEZONE:Europe/Madrid
DESCRIPTION:AE Piera-Sta. Coloma de Queralt
URI:https://www.viladepiera.cat/actualitat/agenda/22132-ae-piera-sta-coloma-de-queralt.html
CLASS:PUBLIC
END:VEVENT
END:VCALENDAR
