BEGIN:VCALENDAR
VERSION:2.0
CALSCALE:GREGORIAN
PRODID:-//Diputació de Barcelona//DibaCMS//EN
BEGIN:VEVENT
UID:22133
DTSTAMP:20260425T033107
DTSTART:20081213T124500
DTEND:20081213T000000
SUMMARY:HC Piera-Girona CH
LOCATION:
METHOD:PUBLISH
X-WR-CALNAME:e-seu@ajpiera.cat
X-WR-TIMEZONE:Europe/Madrid
DESCRIPTION:HC Piera-Girona CH
URI:https://www.viladepiera.cat/actualitat/agenda/hc-piera-girona-ch.html
CLASS:PUBLIC
END:VEVENT
END:VCALENDAR
