BEGIN:VCALENDAR
VERSION:2.0
CALSCALE:GREGORIAN
PRODID:-//Diputació de Barcelona//DibaCMS//EN
BEGIN:VEVENT
UID:22136
DTSTAMP:20260425T133635
DTSTART:20081213T170000
DTEND:20081213T000000
SUMMARY:HC Piera-AE Montblanc
LOCATION:
METHOD:PUBLISH
X-WR-CALNAME:e-seu@ajpiera.cat
X-WR-TIMEZONE:Europe/Madrid
DESCRIPTION:HC Piera-AE Montblanc
URI:https://www.viladepiera.cat/actualitat/agenda/hc-piera-ae-montblanc.html
CLASS:PUBLIC
END:VEVENT
END:VCALENDAR
