BEGIN:VCALENDAR
VERSION:2.0
CALSCALE:GREGORIAN
PRODID:-//Diputació de Barcelona//DibaCMS//EN
BEGIN:VEVENT
UID:22145
DTSTAMP:20260425T055149
DTSTART:20081215T190000
DTEND:20081215T000000
SUMMARY:Woody Allen: trajectòria d’un cineasta
LOCATION:
METHOD:PUBLISH
X-WR-CALNAME:e-seu@ajpiera.cat
X-WR-TIMEZONE:Europe/Madrid
DESCRIPTION:Woody Allen: trajectòria d’un cineasta
URI:https://www.viladepiera.cat/actualitat/agenda/woody-allen-trajectoria-dun-cineasta.html
CLASS:PUBLIC
END:VEVENT
END:VCALENDAR
