BEGIN:VCALENDAR
VERSION:2.0
CALSCALE:GREGORIAN
PRODID:-//Diputació de Barcelona//DibaCMS//EN
BEGIN:VEVENT
UID:22147
DTSTAMP:20260425T053926
DTSTART:20081217T170000
DTEND:20081217T200000
SUMMARY:Intercanvi Gastronòmic
LOCATION:
METHOD:PUBLISH
X-WR-CALNAME:e-seu@ajpiera.cat
X-WR-TIMEZONE:Europe/Madrid
DESCRIPTION:Intercanvi Gastronòmic
URI:https://www.viladepiera.cat/actualitat/agenda/intercanvi-gastronomic.html
CLASS:PUBLIC
END:VEVENT
END:VCALENDAR
