BEGIN:VCALENDAR
VERSION:2.0
CALSCALE:GREGORIAN
PRODID:-//Diputació de Barcelona//DibaCMS//EN
BEGIN:VEVENT
UID:22155
DTSTAMP:20260425T194647
DTSTART:20081220T190000
DTEND:20081220T220000
SUMMARY:Això és Nadal
LOCATION:
METHOD:PUBLISH
X-WR-CALNAME:e-seu@ajpiera.cat
X-WR-TIMEZONE:Europe/Madrid
DESCRIPTION:Això és Nadal
URI:https://www.viladepiera.cat/actualitat/agenda/aixo-es-nadal.html
CLASS:PUBLIC
END:VEVENT
END:VCALENDAR
