BEGIN:VCALENDAR
VERSION:2.0
CALSCALE:GREGORIAN
PRODID:-//Diputació de Barcelona//DibaCMS//EN
BEGIN:VEVENT
UID:22157
DTSTAMP:20260425T060144
DTSTART:20081220T160000
DTEND:20081220T000000
SUMMARY:HC Piera-C. Olesa pati
LOCATION:
METHOD:PUBLISH
X-WR-CALNAME:e-seu@ajpiera.cat
X-WR-TIMEZONE:Europe/Madrid
DESCRIPTION:HC Piera-C. Olesa pati
URI:https://www.viladepiera.cat/actualitat/agenda/22157-hc-piera-c-olesa-pati.html
CLASS:PUBLIC
END:VEVENT
END:VCALENDAR
