BEGIN:VCALENDAR
VERSION:2.0
CALSCALE:GREGORIAN
PRODID:-//Diputació de Barcelona//DibaCMS//EN
BEGIN:VEVENT
UID:22160
DTSTAMP:20260425T044148
DTSTART:20081220T183000
DTEND:20081220T000000
SUMMARY:Piera FS A-Esc. F. Urgell-Segarra A
LOCATION:
METHOD:PUBLISH
X-WR-CALNAME:e-seu@ajpiera.cat
X-WR-TIMEZONE:Europe/Madrid
DESCRIPTION:Piera FS A-Esc. F. Urgell-Segarra A
URI:https://www.viladepiera.cat/actualitat/agenda/piera-fs-a-esc-f-urgell-segarra-a.html
CLASS:PUBLIC
END:VEVENT
END:VCALENDAR
