BEGIN:VCALENDAR
VERSION:2.0
CALSCALE:GREGORIAN
PRODID:-//Diputació de Barcelona//DibaCMS//EN
BEGIN:VEVENT
UID:22163
DTSTAMP:20260425T155458
DTSTART:20081221T190000
DTEND:20081221T210000
SUMMARY:Ball
LOCATION:
METHOD:PUBLISH
X-WR-CALNAME:e-seu@ajpiera.cat
X-WR-TIMEZONE:Europe/Madrid
DESCRIPTION:Ball
URI:https://www.viladepiera.cat/actualitat/agenda/ball.html
CLASS:PUBLIC
END:VEVENT
END:VCALENDAR
