BEGIN:VCALENDAR
VERSION:2.0
CALSCALE:GREGORIAN
PRODID:-//Diputació de Barcelona//DibaCMS//EN
BEGIN:VEVENT
UID:22165
DTSTAMP:20260425T044835
DTSTART:20081221T110000
DTEND:20081221T000000
SUMMARY:Basquet EC Piera-AE Cervelló
LOCATION:
METHOD:PUBLISH
X-WR-CALNAME:e-seu@ajpiera.cat
X-WR-TIMEZONE:Europe/Madrid
DESCRIPTION:Basquet EC Piera-AE Cervelló
URI:https://www.viladepiera.cat/actualitat/agenda/basquet-ec-piera-ae-cervello.html
CLASS:PUBLIC
END:VEVENT
END:VCALENDAR
