BEGIN:VCALENDAR
VERSION:2.0
CALSCALE:GREGORIAN
PRODID:-//Diputació de Barcelona//DibaCMS//EN
BEGIN:VEVENT
UID:22166
DTSTAMP:20260425T161059
DTSTART:20081222T173000
DTEND:20081222T000000
SUMMARY:Per Nadal, un pas de pardal
LOCATION:
METHOD:PUBLISH
X-WR-CALNAME:e-seu@ajpiera.cat
X-WR-TIMEZONE:Europe/Madrid
DESCRIPTION:Per Nadal, un pas de pardal
URI:https://www.viladepiera.cat/actualitat/agenda/per-nadal-un-pas-de-pardal.html
CLASS:PUBLIC
END:VEVENT
END:VCALENDAR
