BEGIN:VCALENDAR
VERSION:2.0
CALSCALE:GREGORIAN
PRODID:-//Diputació de Barcelona//DibaCMS//EN
BEGIN:VEVENT
UID:22168
DTSTAMP:20260425T183230
DTSTART:20081223T180000
DTEND:20081223T200000
SUMMARY:Bingo
LOCATION:
METHOD:PUBLISH
X-WR-CALNAME:e-seu@ajpiera.cat
X-WR-TIMEZONE:Europe/Madrid
DESCRIPTION:Bingo
URI:https://www.viladepiera.cat/actualitat/agenda/bingo.html
CLASS:PUBLIC
END:VEVENT
END:VCALENDAR
