BEGIN:VCALENDAR
VERSION:2.0
CALSCALE:GREGORIAN
PRODID:-//Diputació de Barcelona//DibaCMS//EN
BEGIN:VEVENT
UID:22171
DTSTAMP:20260425T132228
DTSTART:20081224T220000
DTEND:20081224T000000
SUMMARY:Missa del Gall (Ca n'Aguilera)
LOCATION:
METHOD:PUBLISH
X-WR-CALNAME:e-seu@ajpiera.cat
X-WR-TIMEZONE:Europe/Madrid
DESCRIPTION:Missa del Gall (Ca n'Aguilera)
URI:https://www.viladepiera.cat/actualitat/agenda/missa-del-gall-ca-naguilera.html
CLASS:PUBLIC
END:VEVENT
END:VCALENDAR
