BEGIN:VCALENDAR
VERSION:2.0
CALSCALE:GREGORIAN
PRODID:-//Diputació de Barcelona//DibaCMS//EN
BEGIN:VEVENT
UID:22176
DTSTAMP:20260425T145149
DTSTART:20081226T123000
DTEND:20081226T000000
SUMMARY:Ballada de sardanes
LOCATION:
METHOD:PUBLISH
X-WR-CALNAME:e-seu@ajpiera.cat
X-WR-TIMEZONE:Europe/Madrid
DESCRIPTION:Ballada de sardanes
URI:https://www.viladepiera.cat/actualitat/agenda/22176-ballada-de-sardanes.html
CLASS:PUBLIC
END:VEVENT
END:VCALENDAR
