BEGIN:VCALENDAR
VERSION:2.0
CALSCALE:GREGORIAN
PRODID:-//Diputació de Barcelona//DibaCMS//EN
BEGIN:VEVENT
UID:22180
DTSTAMP:20260425T172942
DTSTART:20081227T183000
DTEND:20081227T000000
SUMMARY:Ball-berenar
LOCATION:
METHOD:PUBLISH
X-WR-CALNAME:e-seu@ajpiera.cat
X-WR-TIMEZONE:Europe/Madrid
DESCRIPTION:Ball-berenar
URI:https://www.viladepiera.cat/actualitat/agenda/22180-ball-berenar.html
CLASS:PUBLIC
END:VEVENT
END:VCALENDAR
