BEGIN:VCALENDAR
VERSION:2.0
CALSCALE:GREGORIAN
PRODID:-//Diputació de Barcelona//DibaCMS//EN
BEGIN:VEVENT
UID:22184
DTSTAMP:20260425T194244
DTSTART:20081228T190000
DTEND:20081228T000000
SUMMARY:Ball
LOCATION:
METHOD:PUBLISH
X-WR-CALNAME:e-seu@ajpiera.cat
X-WR-TIMEZONE:Europe/Madrid
DESCRIPTION:Ball
URI:https://www.viladepiera.cat/actualitat/agenda/22184-ball.html
CLASS:PUBLIC
END:VEVENT
END:VCALENDAR
