BEGIN:VCALENDAR
VERSION:2.0
CALSCALE:GREGORIAN
PRODID:-//Diputació de Barcelona//DibaCMS//EN
BEGIN:VEVENT
UID:22188
DTSTAMP:20260425T021824
DTSTART:20081231T220000
DTEND:20081231T000000
SUMMARY:Sopar de cap d'any (El Bedorc)
LOCATION:
METHOD:PUBLISH
X-WR-CALNAME:e-seu@ajpiera.cat
X-WR-TIMEZONE:Europe/Madrid
DESCRIPTION:Sopar de cap d'any (El Bedorc)
URI:https://www.viladepiera.cat/actualitat/agenda/sopar-de-cap-dany-el-bedorc.html
CLASS:PUBLIC
END:VEVENT
END:VCALENDAR
