BEGIN:VCALENDAR
VERSION:2.0
CALSCALE:GREGORIAN
PRODID:-//Diputació de Barcelona//DibaCMS//EN
BEGIN:VEVENT
UID:22189
DTSTAMP:20260425T044036
DTSTART:20081231T220000
DTEND:20081231T000000
SUMMARY:Revetlla de Cap d'Any (Ca n'Aguilera)
LOCATION:
METHOD:PUBLISH
X-WR-CALNAME:e-seu@ajpiera.cat
X-WR-TIMEZONE:Europe/Madrid
DESCRIPTION:Revetlla de Cap d'Any (Ca n'Aguilera)
URI:https://www.viladepiera.cat/actualitat/agenda/revetlla-de-cap-dany-ca-naguilera.html
CLASS:PUBLIC
END:VEVENT
END:VCALENDAR
