BEGIN:VCALENDAR
VERSION:2.0
CALSCALE:GREGORIAN
PRODID:-//Diputació de Barcelona//DibaCMS//EN
BEGIN:VEVENT
UID:22192
DTSTAMP:20260425T031254
DTSTART:20090101T130000
DTEND:20090101T000000
SUMMARY:Arribada del Patge Real (Ca n'Aguilera)
LOCATION:
METHOD:PUBLISH
X-WR-CALNAME:e-seu@ajpiera.cat
X-WR-TIMEZONE:Europe/Madrid
DESCRIPTION:Arribada del Patge Real (Ca n'Aguilera)
URI:https://www.viladepiera.cat/actualitat/agenda/arribada-del-patge-real-ca-naguilera.html
CLASS:PUBLIC
END:VEVENT
END:VCALENDAR
