BEGIN:VCALENDAR
VERSION:2.0
CALSCALE:GREGORIAN
PRODID:-//Diputació de Barcelona//DibaCMS//EN
BEGIN:VEVENT
UID:22198
DTSTAMP:20260425T060615
DTSTART:20090105T183000
DTEND:20090105T000000
SUMMARY:62a Cavalcada de Reis
LOCATION:
METHOD:PUBLISH
X-WR-CALNAME:e-seu@ajpiera.cat
X-WR-TIMEZONE:Europe/Madrid
DESCRIPTION:62a Cavalcada de Reis
URI:https://www.viladepiera.cat/actualitat/agenda/62a-cavalcada-de-reis.html
CLASS:PUBLIC
END:VEVENT
END:VCALENDAR
