BEGIN:VCALENDAR
VERSION:2.0
CALSCALE:GREGORIAN
PRODID:-//Diputació de Barcelona//DibaCMS//EN
BEGIN:VEVENT
UID:22200
DTSTAMP:20260425T045341
DTSTART:20090105T180000
DTEND:20090105T210000
SUMMARY:Cavalcades de Reis (barris)
LOCATION:
METHOD:PUBLISH
X-WR-CALNAME:e-seu@ajpiera.cat
X-WR-TIMEZONE:Europe/Madrid
DESCRIPTION:Cavalcades de Reis (barris)
URI:https://www.viladepiera.cat/actualitat/agenda/cavalcades-de-reis-barris.html
CLASS:PUBLIC
END:VEVENT
END:VCALENDAR
