BEGIN:VCALENDAR
VERSION:2.0
CALSCALE:GREGORIAN
PRODID:-//Diputació de Barcelona//DibaCMS//EN
BEGIN:VEVENT
UID:22203
DTSTAMP:20260425T060554
DTSTART:20090110T100000
DTEND:20090110T000000
SUMMARY:AE Piera-Anoia
LOCATION:
METHOD:PUBLISH
X-WR-CALNAME:e-seu@ajpiera.cat
X-WR-TIMEZONE:Europe/Madrid
DESCRIPTION:AE Piera-Anoia
URI:https://www.viladepiera.cat/actualitat/agenda/ae-piera-anoia.html
CLASS:PUBLIC
END:VEVENT
END:VCALENDAR
