BEGIN:VCALENDAR
VERSION:2.0
CALSCALE:GREGORIAN
PRODID:-//Diputació de Barcelona//DibaCMS//EN
BEGIN:VEVENT
UID:22206
DTSTAMP:20260425T060430
DTSTART:20090110T180000
DTEND:20090110T000000
SUMMARY:AE Piera-Òdena
LOCATION:
METHOD:PUBLISH
X-WR-CALNAME:e-seu@ajpiera.cat
X-WR-TIMEZONE:Europe/Madrid
DESCRIPTION:AE Piera-Òdena
URI:https://www.viladepiera.cat/actualitat/agenda/22206-ae-piera-odena.html
CLASS:PUBLIC
END:VEVENT
END:VCALENDAR
