BEGIN:VCALENDAR
VERSION:2.0
CALSCALE:GREGORIAN
PRODID:-//Diputació de Barcelona//DibaCMS//EN
BEGIN:VEVENT
UID:22209
DTSTAMP:20260425T060328
DTSTART:20090110T180000
DTEND:20090110T000000
SUMMARY:HC Piera-Igualada HC
LOCATION:
METHOD:PUBLISH
X-WR-CALNAME:e-seu@ajpiera.cat
X-WR-TIMEZONE:Europe/Madrid
DESCRIPTION:HC Piera-Igualada HC
URI:https://www.viladepiera.cat/actualitat/agenda/22209-hc-piera-igualada-hc.html
CLASS:PUBLIC
END:VEVENT
END:VCALENDAR
